BEGIN:VCALENDAR
VERSION:2.0
PRODID:-//Musikverein Obereisesheim e.V. - ECPv5.2.0//NONSGML v1.0//EN
CALSCALE:GREGORIAN
METHOD:PUBLISH
X-WR-CALNAME:Musikverein Obereisesheim e.V.
X-ORIGINAL-URL:https://musikverein-obereisesheim.de
X-WR-CALDESC:Veranstaltungen für Musikverein Obereisesheim e.V.
BEGIN:VTIMEZONE
TZID:Europe/Berlin
BEGIN:DAYLIGHT
TZOFFSETFROM:+0100
TZOFFSETTO:+0200
TZNAME:CEST
DTSTART:20260329T010000
END:DAYLIGHT
BEGIN:STANDARD
TZOFFSETFROM:+0200
TZOFFSETTO:+0100
TZNAME:CET
DTSTART:20261025T010000
END:STANDARD
END:VTIMEZONE
BEGIN:VEVENT
DTSTART;TZID=Europe/Berlin:20260509T100000
DTEND;TZID=Europe/Berlin:20260509T170000
DTSTAMP:20260423T091109
CREATED:20260422T183935Z
LAST-MODIFIED:20260422T183935Z
UID:2219-1778320800-1778346000@musikverein-obereisesheim.de
SUMMARY:11. Obereisesheimer Zweirad- und Automobil-Oldtimertreffen
DESCRIPTION:Ähnliche Beiträge
URL:https://musikverein-obereisesheim.de/event/11-obereisesheimer-zweirad-und-automobil-oldtimertreffen/
LOCATION:Im Hof der Familie Ranger\, Hauptstraße 10\, Neckarsulm-Obereisesheim\, 74172\, Deutschland
ATTACH;FMTTYPE=image/jpeg:https://musikverein-obereisesheim.de/wp-content/uploads/2026/04/Folie1.jpeg
END:VEVENT
END:VCALENDAR